BEGIN:VCALENDAR
VERSION:2.0
PRODID:-//David Geaney - ECPv6.15.20//NONSGML v1.0//EN
CALSCALE:GREGORIAN
METHOD:PUBLISH
X-ORIGINAL-URL:https://davidgeaney.ie
X-WR-CALDESC:Events for David Geaney
REFRESH-INTERVAL;VALUE=DURATION:PT1H
X-Robots-Tag:noindex
X-PUBLISHED-TTL:PT1H
BEGIN:VTIMEZONE
TZID:UTC
BEGIN:STANDARD
TZOFFSETFROM:+0000
TZOFFSETTO:+0000
TZNAME:UTC
DTSTART:20240101T000000
END:STANDARD
END:VTIMEZONE
BEGIN:VEVENT
DTSTART;TZID=UTC:20250311T193000
DTEND;TZID=UTC:20250311T213000
DTSTAMP:20260423T181640
CREATED:20220211T124133Z
LAST-MODIFIED:20250210T223519Z
UID:49594-1741721400-1741728600@davidgeaney.ie
SUMMARY:David Geaney & The Irish Lads - Santa Cruz\, CA
DESCRIPTION:
URL:https://davidgeaney.ie/tourdates/velocity-the-show-matinee-4-2/
LOCATION:The 418 Project\, 155 S River Street\, Santa Cruz\, California\, 95060\, United States
CATEGORIES:Velocity The Show
END:VEVENT
END:VCALENDAR