BEGIN:VCALENDAR
VERSION:2.0
PRODID:-//David Geaney - ECPv6.15.20//NONSGML v1.0//EN
CALSCALE:GREGORIAN
METHOD:PUBLISH
X-WR-CALNAME:David Geaney
X-ORIGINAL-URL:https://davidgeaney.ie
X-WR-CALDESC:Events for David Geaney
REFRESH-INTERVAL;VALUE=DURATION:PT1H
X-Robots-Tag:noindex
X-PUBLISHED-TTL:PT1H
BEGIN:VTIMEZONE
TZID:UTC
BEGIN:STANDARD
TZOFFSETFROM:+0000
TZOFFSETTO:+0000
TZNAME:UTC
DTSTART:20240101T000000
END:STANDARD
END:VTIMEZONE
BEGIN:VEVENT
DTSTART;TZID=UTC:20250314T190000
DTEND;TZID=UTC:20250314T220000
DTSTAMP:20260423T181339
CREATED:20220212T173525Z
LAST-MODIFIED:20250210T001124Z
UID:49622-1741978800-1741989600@davidgeaney.ie
SUMMARY:Velocity Irish Dance - Campbell\, CA
DESCRIPTION:
URL:https://davidgeaney.ie/tourdates/velocity-the-show-matinee-5-2/
LOCATION:Heritage Theater\, City Of Campbell\, City Hall\, Campbell\, California\, 95008\, United States
CATEGORIES:Velocity The Show
END:VEVENT
END:VCALENDAR