BEGIN:VCALENDAR
VERSION:2.0
PRODID:-//David Geaney - ECPv6.15.20//NONSGML v1.0//EN
CALSCALE:GREGORIAN
METHOD:PUBLISH
X-WR-CALNAME:David Geaney
X-ORIGINAL-URL:https://davidgeaney.ie
X-WR-CALDESC:Events for David Geaney
REFRESH-INTERVAL;VALUE=DURATION:PT1H
X-Robots-Tag:noindex
X-PUBLISHED-TTL:PT1H
BEGIN:VTIMEZONE
TZID:UTC
BEGIN:STANDARD
TZOFFSETFROM:+0000
TZOFFSETTO:+0000
TZNAME:UTC
DTSTART:20240101T000000
END:STANDARD
END:VTIMEZONE
BEGIN:VEVENT
DTSTART;TZID=UTC:20250315T190000
DTEND;TZID=UTC:20250315T210000
DTSTAMP:20260423T180423
CREATED:20220212T174208Z
LAST-MODIFIED:20250210T001212Z
UID:49628-1742065200-1742072400@davidgeaney.ie
SUMMARY:Velocity Irish Dance - Davis\, CA
DESCRIPTION:
URL:https://davidgeaney.ie/tourdates/velocity-the-show-matinee-5-2-3/
LOCATION:Jackson Hall\, Mondavi Center for the Performing Arts\, University of California\, One Shields Avenue\, Davis\, California\, 95616\, United States
CATEGORIES:Velocity The Show
END:VEVENT
END:VCALENDAR