BEGIN:VCALENDAR
VERSION:2.0
PRODID:-//David Geaney - ECPv6.15.20//NONSGML v1.0//EN
CALSCALE:GREGORIAN
METHOD:PUBLISH
X-WR-CALNAME:David Geaney
X-ORIGINAL-URL:https://davidgeaney.ie
X-WR-CALDESC:Events for David Geaney
REFRESH-INTERVAL;VALUE=DURATION:PT1H
X-Robots-Tag:noindex
X-PUBLISHED-TTL:PT1H
BEGIN:VTIMEZONE
TZID:UTC
BEGIN:STANDARD
TZOFFSETFROM:+0000
TZOFFSETTO:+0000
TZNAME:UTC
DTSTART:20240101T000000
END:STANDARD
END:VTIMEZONE
BEGIN:VEVENT
DTSTART;TZID=UTC:20250320T193000
DTEND;TZID=UTC:20250320T213000
DTSTAMP:20260423T181309
CREATED:20220212T175117Z
LAST-MODIFIED:20250210T001540Z
UID:49638-1742499000-1742506200@davidgeaney.ie
SUMMARY:Velocity Irish Dance - Birmingham\, AL
DESCRIPTION:
URL:https://davidgeaney.ie/tourdates/velocity-the-show-matinee-5-2-3-2-2-2/
LOCATION:Alys Stephens Performing Arts Center\, Birmingham\, United States
CATEGORIES:Velocity The Show
END:VEVENT
END:VCALENDAR