BEGIN:VCALENDAR
VERSION:2.0
PRODID:-//David Geaney - ECPv6.15.20//NONSGML v1.0//EN
CALSCALE:GREGORIAN
METHOD:PUBLISH
X-ORIGINAL-URL:https://davidgeaney.ie
X-WR-CALDESC:Events for David Geaney
REFRESH-INTERVAL;VALUE=DURATION:PT1H
X-Robots-Tag:noindex
X-PUBLISHED-TTL:PT1H
BEGIN:VTIMEZONE
TZID:UTC
BEGIN:STANDARD
TZOFFSETFROM:+0000
TZOFFSETTO:+0000
TZNAME:UTC
DTSTART:20240101T000000
END:STANDARD
END:VTIMEZONE
BEGIN:VEVENT
DTSTART;TZID=UTC:20250323T190000
DTEND;TZID=UTC:20250323T220000
DTSTAMP:20260423T180901
CREATED:20220212T180245Z
LAST-MODIFIED:20250212T015547Z
UID:49647-1742756400-1742767200@davidgeaney.ie
SUMMARY:David Geaney & The Irish Lads - Hapeville\, GA
DESCRIPTION:
URL:https://davidgeaney.ie/tourdates/velocity-the-show-matinee-5-2-3-2-2-2-2-2/
LOCATION:Academy Theater\, 599 US-19\, Hapeville\, Georgia\, 30354\, United States
CATEGORIES:Velocity The Show
END:VEVENT
END:VCALENDAR