BEGIN:VCALENDAR
VERSION:2.0
PRODID:-//David Geaney - ECPv6.15.20//NONSGML v1.0//EN
CALSCALE:GREGORIAN
METHOD:PUBLISH
X-ORIGINAL-URL:https://davidgeaney.ie
X-WR-CALDESC:Events for David Geaney
REFRESH-INTERVAL;VALUE=DURATION:PT1H
X-Robots-Tag:noindex
X-PUBLISHED-TTL:PT1H
BEGIN:VTIMEZONE
TZID:UTC
BEGIN:STANDARD
TZOFFSETFROM:+0000
TZOFFSETTO:+0000
TZNAME:UTC
DTSTART:20240101T000000
END:STANDARD
END:VTIMEZONE
BEGIN:VEVENT
DTSTART;TZID=UTC:20250326T190000
DTEND;TZID=UTC:20250326T210000
DTSTAMP:20260423T181645
CREATED:20220212T181311Z
LAST-MODIFIED:20250210T002019Z
UID:49657-1743015600-1743022800@davidgeaney.ie
SUMMARY:Velocity Irish Dance - The Villages\, FL
DESCRIPTION:
URL:https://davidgeaney.ie/tourdates/velocity-the-show-matinee-5-2-3-2-2-2-2-2-2-2-2/
LOCATION:Sharon L. Morse Performing Arts Center\, The Villages\, Florida\, 32159\, United States
CATEGORIES:Velocity The Show
END:VEVENT
END:VCALENDAR