BEGIN:VCALENDAR
VERSION:2.0
PRODID:-//David Geaney - ECPv6.15.20//NONSGML v1.0//EN
CALSCALE:GREGORIAN
METHOD:PUBLISH
X-ORIGINAL-URL:https://davidgeaney.ie
X-WR-CALDESC:Events for David Geaney
REFRESH-INTERVAL;VALUE=DURATION:PT1H
X-Robots-Tag:noindex
X-PUBLISHED-TTL:PT1H
BEGIN:VTIMEZONE
TZID:UTC
BEGIN:STANDARD
TZOFFSETFROM:+0000
TZOFFSETTO:+0000
TZNAME:UTC
DTSTART:20250101T000000
END:STANDARD
END:VTIMEZONE
BEGIN:VEVENT
DTSTART;TZID=UTC:20260117T193000
DTEND;TZID=UTC:20260117T213000
DTSTAMP:20260419T232331
CREATED:20260114T223247Z
LAST-MODIFIED:20260114T223249Z
UID:49892-1768678200-1768685400@davidgeaney.ie
SUMMARY:Cherish The Ladies - Royal Concert Hall\, Glasgow
DESCRIPTION:
URL:https://davidgeaney.ie/tourdates/velocity-the-show-matinee-5-2-3-2-2-2-2-2-2-2-2-2-2-2-2-2-3-2/
CATEGORIES:Velocity The Show
END:VEVENT
END:VCALENDAR