BEGIN:VCALENDAR
VERSION:2.0
PRODID:-//David Geaney - ECPv6.15.20//NONSGML v1.0//EN
CALSCALE:GREGORIAN
METHOD:PUBLISH
X-ORIGINAL-URL:https://davidgeaney.ie
X-WR-CALDESC:Events for David Geaney
REFRESH-INTERVAL;VALUE=DURATION:PT1H
X-Robots-Tag:noindex
X-PUBLISHED-TTL:PT1H
BEGIN:VTIMEZONE
TZID:UTC
BEGIN:STANDARD
TZOFFSETFROM:+0000
TZOFFSETTO:+0000
TZNAME:UTC
DTSTART:20250101T000000
END:STANDARD
END:VTIMEZONE
BEGIN:VEVENT
DTSTART;TZID=UTC:20260212T200000
DTEND;TZID=UTC:20260212T220000
DTSTAMP:20260419T135010
CREATED:20260114T220406Z
LAST-MODIFIED:20260114T221308Z
UID:49869-1770926400-1770933600@davidgeaney.ie
SUMMARY:The Irish Lads - Kerrymans Association\, NY
DESCRIPTION:
URL:https://davidgeaney.ie/tourdates/velocity-the-show-matinee-5-2-3-2-2-2-2-2-2-2-2-2-2-2/
LOCATION:Kerrymans Association\, 305 Mclean Avenue\, Yonkers\, New York\, 10705\, United States
CATEGORIES:Velocity The Show
END:VEVENT
END:VCALENDAR