BEGIN:VCALENDAR
VERSION:2.0
PRODID:-//David Geaney - ECPv6.15.20//NONSGML v1.0//EN
CALSCALE:GREGORIAN
METHOD:PUBLISH
X-ORIGINAL-URL:https://davidgeaney.ie
X-WR-CALDESC:Events for David Geaney
REFRESH-INTERVAL;VALUE=DURATION:PT1H
X-Robots-Tag:noindex
X-PUBLISHED-TTL:PT1H
BEGIN:VTIMEZONE
TZID:UTC
BEGIN:STANDARD
TZOFFSETFROM:+0000
TZOFFSETTO:+0000
TZNAME:UTC
DTSTART:20250101T000000
END:STANDARD
END:VTIMEZONE
BEGIN:VEVENT
DTSTART;TZID=UTC:20260214T193000
DTEND;TZID=UTC:20260214T220000
DTSTAMP:20260421T101046
CREATED:20260114T222045Z
LAST-MODIFIED:20260114T222048Z
UID:49882-1771097400-1771106400@davidgeaney.ie
SUMMARY:The Irish Lads - Rockland GAA\, Orangeburg\, NY
DESCRIPTION:
URL:https://davidgeaney.ie/tourdates/velocity-the-show-matinee-5-2-3-2-2-2-2-2-2-2-2-2-2-2-2-2/
LOCATION:Rockland GAA\, Old Orangeburg Rd\, Orangeburg\, New York\, 10962\, United States
CATEGORIES:Velocity The Show
END:VEVENT
END:VCALENDAR