BEGIN:VCALENDAR
VERSION:2.0
PRODID:-//David Geaney - ECPv6.15.20//NONSGML v1.0//EN
CALSCALE:GREGORIAN
METHOD:PUBLISH
X-ORIGINAL-URL:https://davidgeaney.ie
X-WR-CALDESC:Events for David Geaney
REFRESH-INTERVAL;VALUE=DURATION:PT1H
X-Robots-Tag:noindex
X-PUBLISHED-TTL:PT1H
BEGIN:VTIMEZONE
TZID:UTC
BEGIN:STANDARD
TZOFFSETFROM:+0000
TZOFFSETTO:+0000
TZNAME:UTC
DTSTART:20250101T000000
END:STANDARD
END:VTIMEZONE
BEGIN:VEVENT
DTSTART;TZID=UTC:20260215T150000
DTEND;TZID=UTC:20260215T170000
DTSTAMP:20260423T112558
CREATED:20260114T222636Z
LAST-MODIFIED:20260114T222639Z
UID:49886-1771167600-1771174800@davidgeaney.ie
SUMMARY:The Irish Lads - JBO\, Springfield\, MA
DESCRIPTION:Call Matt on 413 333-1488 For Tickets!
URL:https://davidgeaney.ie/tourdates/velocity-the-show-matinee-5-2-3-2-2-2-2-2-2-2-2-2-2-2-2-2-2/
LOCATION:John Boyle O’Reilly Club\, 33 Progress Ave\, Springfield\, Massachusetts\, 01104\, United States
CATEGORIES:Velocity The Show
END:VEVENT
END:VCALENDAR